BEGIN:VCALENDAR
VERSION:2.0
PRODID:-//Sanlúcar Promoción - ECPv6.11.2.1//NONSGML v1.0//EN
CALSCALE:GREGORIAN
METHOD:PUBLISH
X-ORIGINAL-URL:https://sanlucarpromocion.es
X-WR-CALDESC:Eventos para Sanlúcar Promoción
REFRESH-INTERVAL;VALUE=DURATION:PT1H
X-Robots-Tag:noindex
X-PUBLISHED-TTL:PT1H
BEGIN:VTIMEZONE
TZID:Europe/Madrid
BEGIN:DAYLIGHT
TZOFFSETFROM:+0100
TZOFFSETTO:+0200
TZNAME:CEST
DTSTART:20250330T010000
END:DAYLIGHT
BEGIN:STANDARD
TZOFFSETFROM:+0200
TZOFFSETTO:+0100
TZNAME:CET
DTSTART:20251026T010000
END:STANDARD
END:VTIMEZONE
BEGIN:VEVENT
DTSTART;TZID=Europe/Madrid:20250621T080000
DTEND;TZID=Europe/Madrid:20250621T170000
DTSTAMP:20260424T011758
CREATED:20250219T093121Z
LAST-MODIFIED:20250219T093121Z
UID:7494-1750492800-1750525200@sanlucarpromocion.es
SUMMARY:MANIFESTACIÓN ORGULLO SANLÚCAR
DESCRIPTION:
URL:https://sanlucarpromocion.es/event/manifestacion-orgullo-sanlucar/
LOCATION:Cádiz
ATTACH;FMTTYPE=image/jpeg:https://sanlucarpromocion.es/wp-content/uploads/2025/02/WhatsApp-Image-2025-02-19-at-10.14.49.jpeg
END:VEVENT
BEGIN:VEVENT
DTSTART;VALUE=DATE:20250602
DTEND;VALUE=DATE:20250603
DTSTAMP:20260424T011758
CREATED:20250109T102605Z
LAST-MODIFIED:20250109T102605Z
UID:7223-1748822400-1748908799@sanlucarpromocion.es
SUMMARY:LUNES DE RESACA
DESCRIPTION:
URL:https://sanlucarpromocion.es/event/lunes-de-resaca/
LOCATION:Cádiz
END:VEVENT
BEGIN:VEVENT
DTSTART;TZID=Europe/Madrid:20250601T080000
DTEND;TZID=Europe/Madrid:20250601T235900
DTSTAMP:20260424T011758
CREATED:20250109T102526Z
LAST-MODIFIED:20250109T102526Z
UID:7221-1748764800-1748822340@sanlucarpromocion.es
SUMMARY:DOMINGO DE FERIA
DESCRIPTION:
URL:https://sanlucarpromocion.es/event/domingo-de-feria/
LOCATION:Calzada de la Duquesa Isabel\, Calzada de la Duquesa Isabel\, Sanlúcar de Barrameda\, Cádiz\, 11540\, España
CATEGORIES:Fiestas
ATTACH;FMTTYPE=image/jpeg:https://sanlucarpromocion.es/wp-content/uploads/2024/01/portada-turquesa-scaled-e1716198805529.jpg
END:VEVENT
BEGIN:VEVENT
DTSTART;TZID=Europe/Madrid:20250531T080000
DTEND;TZID=Europe/Madrid:20250531T235900
DTSTAMP:20260424T011758
CREATED:20250109T102418Z
LAST-MODIFIED:20250109T102418Z
UID:7219-1748678400-1748735940@sanlucarpromocion.es
SUMMARY:SÁBADO DE FERIA
DESCRIPTION:
URL:https://sanlucarpromocion.es/event/sabado-de-feria/
LOCATION:Calzada de la Duquesa Isabel\, Calzada de la Duquesa Isabel\, Sanlúcar de Barrameda\, Cádiz\, 11540\, España
CATEGORIES:Fiestas
ATTACH;FMTTYPE=image/jpeg:https://sanlucarpromocion.es/wp-content/uploads/2024/01/flamenca-rosa-scaled-e1716199022385.jpg
END:VEVENT
BEGIN:VEVENT
DTSTART;TZID=Europe/Madrid:20250530T080000
DTEND;TZID=Europe/Madrid:20250530T235900
DTSTAMP:20260424T011758
CREATED:20250109T102257Z
LAST-MODIFIED:20250109T102257Z
UID:7217-1748592000-1748649540@sanlucarpromocion.es
SUMMARY:VIERNES DE FERIA
DESCRIPTION:
URL:https://sanlucarpromocion.es/event/viernes-de-feria/
LOCATION:Calzada de la Duquesa Isabel\, Calzada de la Duquesa Isabel\, Sanlúcar de Barrameda\, Cádiz\, 11540\, España
CATEGORIES:Fiestas
ATTACH;FMTTYPE=image/jpeg:https://sanlucarpromocion.es/wp-content/uploads/2024/01/manzanilla-amarillo-scaled-e1716199489266.jpg
END:VEVENT
BEGIN:VEVENT
DTSTART;TZID=Europe/Madrid:20250529T080000
DTEND;TZID=Europe/Madrid:20250529T235900
DTSTAMP:20260424T011758
CREATED:20250109T102149Z
LAST-MODIFIED:20250109T102149Z
UID:7215-1748505600-1748563140@sanlucarpromocion.es
SUMMARY:JUEVES DE FERIA
DESCRIPTION:
URL:https://sanlucarpromocion.es/event/jueves-de-feria/
LOCATION:Calzada de la Duquesa Isabel\, Calzada de la Duquesa Isabel\, Sanlúcar de Barrameda\, Cádiz\, 11540\, España
CATEGORIES:Fiestas
ATTACH;FMTTYPE=image/jpeg:https://sanlucarpromocion.es/wp-content/uploads/2024/01/caseta-lila-scaled-e1716199329777.jpg
END:VEVENT
BEGIN:VEVENT
DTSTART;TZID=Europe/Madrid:20250528T080000
DTEND;TZID=Europe/Madrid:20250528T235900
DTSTAMP:20260424T011758
CREATED:20250109T102039Z
LAST-MODIFIED:20250109T102039Z
UID:7213-1748419200-1748476740@sanlucarpromocion.es
SUMMARY:MIÉRCOLES DE FERIA
DESCRIPTION:
URL:https://sanlucarpromocion.es/event/miercoles-de-feria/
LOCATION:Calzada de la Duquesa Isabel\, Calzada de la Duquesa Isabel\, Sanlúcar de Barrameda\, Cádiz\, 11540\, España
CATEGORIES:Fiestas
ATTACH;FMTTYPE=image/jpeg:https://sanlucarpromocion.es/wp-content/uploads/2024/01/flamenca-rosa-scaled-e1716199022385.jpg
END:VEVENT
BEGIN:VEVENT
DTSTART;TZID=Europe/Madrid:20250527T220000
DTEND;TZID=Europe/Madrid:20250527T235900
DTSTAMP:20260424T011758
CREATED:20250109T101813Z
LAST-MODIFIED:20250109T101905Z
UID:7211-1748383200-1748390340@sanlucarpromocion.es
SUMMARY:ALUMBRADO FERIA DE LA MANZANILLA
DESCRIPTION:
URL:https://sanlucarpromocion.es/event/alumbrado-feria-de-la-manzanilla/
LOCATION:Calzada de la Duquesa Isabel\, Calzada de la Duquesa Isabel\, Sanlúcar de Barrameda\, Cádiz\, 11540\, España
CATEGORIES:Fiestas
ATTACH;FMTTYPE=image/jpeg:https://sanlucarpromocion.es/wp-content/uploads/2024/01/portada-turquesa-scaled-e1716198805529.jpg
END:VEVENT
BEGIN:VEVENT
DTSTART;VALUE=DATE:20250420
DTEND;VALUE=DATE:20250421
DTSTAMP:20260424T011758
CREATED:20250109T103706Z
LAST-MODIFIED:20250109T103706Z
UID:7239-1745107200-1745193599@sanlucarpromocion.es
SUMMARY:DOMINGO DE RESURRECCIÓN
DESCRIPTION:
URL:https://sanlucarpromocion.es/event/domingo-de-resurreccion/
LOCATION:Cádiz
CATEGORIES:Fiestas
ATTACH;FMTTYPE=image/png:https://sanlucarpromocion.es/wp-content/uploads/2024/01/resucitado.png
END:VEVENT
BEGIN:VEVENT
DTSTART;VALUE=DATE:20250419
DTEND;VALUE=DATE:20250420
DTSTAMP:20260424T011758
CREATED:20250109T103504Z
LAST-MODIFIED:20250109T103548Z
UID:7237-1745020800-1745107199@sanlucarpromocion.es
SUMMARY:SÁBADO SANTO
DESCRIPTION:
URL:https://sanlucarpromocion.es/event/sabado-santo/
LOCATION:Cádiz
CATEGORIES:Fiestas
ATTACH;FMTTYPE=image/png:https://sanlucarpromocion.es/wp-content/uploads/2024/01/santo-entierro.png
END:VEVENT
BEGIN:VEVENT
DTSTART;VALUE=DATE:20250418
DTEND;VALUE=DATE:20250419
DTSTAMP:20260424T011758
CREATED:20250109T103349Z
LAST-MODIFIED:20250109T103349Z
UID:7235-1744934400-1745020799@sanlucarpromocion.es
SUMMARY:VIERNES SANTO
DESCRIPTION:
URL:https://sanlucarpromocion.es/event/viernes-santo/
LOCATION:Cádiz
CATEGORIES:Fiestas
ATTACH;FMTTYPE=image/png:https://sanlucarpromocion.es/wp-content/uploads/2024/01/angustias.png
END:VEVENT
BEGIN:VEVENT
DTSTART;VALUE=DATE:20250417
DTEND;VALUE=DATE:20250418
DTSTAMP:20260424T011758
CREATED:20250109T103222Z
LAST-MODIFIED:20250109T103222Z
UID:7233-1744848000-1744934399@sanlucarpromocion.es
SUMMARY:JUEVES SANTO
DESCRIPTION:
URL:https://sanlucarpromocion.es/event/jueves-santo/
LOCATION:Cádiz
CATEGORIES:Fiestas
ATTACH;FMTTYPE=image/png:https://sanlucarpromocion.es/wp-content/uploads/2024/01/expiracion-e1709491077886.png
END:VEVENT
BEGIN:VEVENT
DTSTART;VALUE=DATE:20250416
DTEND;VALUE=DATE:20250417
DTSTAMP:20260424T011758
CREATED:20250109T103114Z
LAST-MODIFIED:20250109T103114Z
UID:7231-1744761600-1744847999@sanlucarpromocion.es
SUMMARY:MIÉRCOLES SANTO
DESCRIPTION:
URL:https://sanlucarpromocion.es/event/miercoles-santo/
LOCATION:Cádiz
CATEGORIES:Fiestas
ATTACH;FMTTYPE=image/png:https://sanlucarpromocion.es/wp-content/uploads/2024/01/dolores.png
END:VEVENT
BEGIN:VEVENT
DTSTART;VALUE=DATE:20250415
DTEND;VALUE=DATE:20250416
DTSTAMP:20260424T011758
CREATED:20250109T103027Z
LAST-MODIFIED:20250109T103027Z
UID:7229-1744675200-1744761599@sanlucarpromocion.es
SUMMARY:MARTES SANTO
DESCRIPTION:
URL:https://sanlucarpromocion.es/event/martes-santo/
LOCATION:Cádiz
CATEGORIES:Fiestas
ATTACH;FMTTYPE=image/png:https://sanlucarpromocion.es/wp-content/uploads/2024/01/consuelo-e1709490090222.png
END:VEVENT
BEGIN:VEVENT
DTSTART;VALUE=DATE:20250414
DTEND;VALUE=DATE:20250415
DTSTAMP:20260424T011758
CREATED:20250109T102919Z
LAST-MODIFIED:20250109T102919Z
UID:7227-1744588800-1744675199@sanlucarpromocion.es
SUMMARY:LUNES SANTO
DESCRIPTION:
URL:https://sanlucarpromocion.es/event/lunes-santo/
LOCATION:Cádiz
CATEGORIES:Fiestas
ATTACH;FMTTYPE=image/png:https://sanlucarpromocion.es/wp-content/uploads/2024/01/canita.png
END:VEVENT
BEGIN:VEVENT
DTSTART;VALUE=DATE:20250413
DTEND;VALUE=DATE:20250414
DTSTAMP:20260424T011758
CREATED:20250109T102758Z
LAST-MODIFIED:20250109T102758Z
UID:7225-1744502400-1744588799@sanlucarpromocion.es
SUMMARY:DOMINGO DE RAMOS
DESCRIPTION:
URL:https://sanlucarpromocion.es/event/domingo-de-ramos/
LOCATION:Cádiz
CATEGORIES:Fiestas
ATTACH;FMTTYPE=image/png:https://sanlucarpromocion.es/wp-content/uploads/2024/01/huerto.png
END:VEVENT
BEGIN:VEVENT
DTSTART;TZID=Europe/Madrid:20250406T120000
DTEND;TZID=Europe/Madrid:20250406T140000
DTSTAMP:20260424T011758
CREATED:20250226T102106Z
LAST-MODIFIED:20250226T102612Z
UID:7529-1743940800-1743948000@sanlucarpromocion.es
SUMMARY:PREGÓN DE LA SEMANA SANTA DE SANLÚCAR
DESCRIPTION:
URL:https://sanlucarpromocion.es/event/pregon-de-la-semana-santa-de-sanlucar/
LOCATION:Cádiz
CATEGORIES:Fiestas
ATTACH;FMTTYPE=image/jpeg:https://sanlucarpromocion.es/wp-content/uploads/2025/02/WhatsApp-Image-2025-02-26-at-11.20.38.jpeg
END:VEVENT
BEGIN:VEVENT
DTSTART;TZID=Europe/Madrid:20250405T133000
DTEND;TZID=Europe/Madrid:20250405T230000
DTSTAMP:20260424T011758
CREATED:20250219T092926Z
LAST-MODIFIED:20250219T093006Z
UID:7491-1743859800-1743894000@sanlucarpromocion.es
SUMMARY:VI EDICIÓN GASTROMÚSICA
DESCRIPTION:
URL:https://sanlucarpromocion.es/event/vi-edicion-gastromusica/
LOCATION:Teatro Municipal Sanlúcar de Barrameda\, Avda. de Las Piletas\, 13\, Sanlúcar de Barrameda\, Cádiz\, 11540\, España
CATEGORIES:Gastronomía,Música
ATTACH;FMTTYPE=image/jpeg:https://sanlucarpromocion.es/wp-content/uploads/2025/02/WhatsApp-Image-2025-02-19-at-10.15.151.jpeg
END:VEVENT
BEGIN:VEVENT
DTSTART;TZID=Europe/Madrid:20250315T123000
DTEND;TZID=Europe/Madrid:20250315T143000
DTSTAMP:20260424T011758
CREATED:20250206T095854Z
LAST-MODIFIED:20250226T101908Z
UID:7400-1742041800-1742049000@sanlucarpromocion.es
SUMMARY:CICLO DE CONFERENCIAS "LA CHARIDAD GUZMANA"
DESCRIPTION:
URL:https://sanlucarpromocion.es/event/ciclo-de-conferencias-la-charidad-guzmana-copy/
LOCATION:Museo Parroquial Parroquia de La O.
CATEGORIES:Arte,Cultura
ATTACH;FMTTYPE=image/jpeg:https://sanlucarpromocion.es/wp-content/uploads/2025/02/475981984_542602425493369_4222365314173691958_n.jpg
END:VEVENT
BEGIN:VEVENT
DTSTART;TZID=Europe/Madrid:20250309T150000
DTEND;TZID=Europe/Madrid:20250309T200000
DTSTAMP:20260424T011758
CREATED:20250109T111609Z
LAST-MODIFIED:20250305T104947Z
UID:7249-1741532400-1741550400@sanlucarpromocion.es
SUMMARY:CABALGATA CARNAVAL SANLÚCAR
DESCRIPTION:A partir de las 15.00 h. \nPlaza de mayores (explanada mercadillo)\, Palmilla\, Puerto\, Pensionistas\, Avda. de Godoy\, Cruz del Monaguillo\, Mesón del Duque\, Puerta Jerez\, San Agustín\, Santa Brígida\, Sevilla\, Avda. de la Consitución\, San Francisco\, Plaza de Toros El Pino\, Barrameda\, Santo Domingo\, Ancha\, San Juan\, Ruiz de Somavía\, Banda Playa y finalización en calzada de la Duquesa.
URL:https://sanlucarpromocion.es/event/carnaval-sanlucar-3/
LOCATION:Varias ubicaciones
CATEGORIES:Fiestas
ATTACH;FMTTYPE=image/jpeg:https://sanlucarpromocion.es/wp-content/uploads/2025/02/WhatsApp-Image-2025-02-07-at-10.36.13.jpeg
END:VEVENT
BEGIN:VEVENT
DTSTART;TZID=Europe/Madrid:20250308T140000
DTEND;TZID=Europe/Madrid:20250308T235900
DTSTAMP:20260424T011758
CREATED:20250109T110924Z
LAST-MODIFIED:20250304T162527Z
UID:7248-1741442400-1741478340@sanlucarpromocion.es
SUMMARY:CARNAVAL SANLÚCAR
DESCRIPTION:14.00 h. Carnaval de sabores \nColabora Asociación Reyes Magos Algaida y Los Llanos \n16.00 h. Actuaciones \nChirigota «Los Tigres Blues Band» \nCuarteto infantil «Los del Quinto Pino» \nComparsa callejera «Las sin nombre» \nChirigota  «Airfryer fitness» (los quemagrasas) \n22.00 h. Fiesta joven amenizada por DJ
URL:https://sanlucarpromocion.es/event/carnaval-sanlucar-2/
LOCATION:Calzada de la Duquesa Isabel\, Calzada de la Duquesa Isabel\, Sanlúcar de Barrameda\, Cádiz\, 11540\, España
CATEGORIES:Fiestas
ATTACH;FMTTYPE=image/jpeg:https://sanlucarpromocion.es/wp-content/uploads/2025/02/WhatsApp-Image-2025-02-07-at-10.36.13.jpeg
END:VEVENT
BEGIN:VEVENT
DTSTART;TZID=Europe/Madrid:20250307T170000
DTEND;TZID=Europe/Madrid:20250307T235900
DTSTAMP:20260424T011758
CREATED:20250109T110028Z
LAST-MODIFIED:20250304T161727Z
UID:7246-1741366800-1741391940@sanlucarpromocion.es
SUMMARY:CARNAVAL SANLÚCAR
DESCRIPTION:17.00 h. Fiesta Infantil. Carpa Calzada de la Duquesa \nZona de ocio con castillos hinchables \nTributo musical a los cuentos de Disney \nEspectáculo «Cómo están ustedes» \n21.00 h. Noche Carnavalera. Carpa Calzada de la Duquesa \nChirigota «Los agarraitos» \nChirigota «Los cabecitas locas» \nChirigota callejera «Los Walking pavos. A todo gas\, rápidas y furiosas» \nComparsa «El ejército de Pancho Villa» \nComparsa gaditana «El cementerio» \n 
URL:https://sanlucarpromocion.es/event/carnaval-sanlucar/
LOCATION:Calzada de la Duquesa Isabel\, Calzada de la Duquesa Isabel\, Sanlúcar de Barrameda\, Cádiz\, 11540\, España
CATEGORIES:Fiestas
ATTACH;FMTTYPE=image/jpeg:https://sanlucarpromocion.es/wp-content/uploads/2025/02/WhatsApp-Image-2025-02-07-at-10.36.13.jpeg
END:VEVENT
BEGIN:VEVENT
DTSTART;TZID=Europe/Madrid:20250307T110000
DTEND;TZID=Europe/Madrid:20250307T200000
DTSTAMP:20260424T011758
CREATED:20250304T164634Z
LAST-MODIFIED:20250304T164634Z
UID:7544-1741345200-1741377600@sanlucarpromocion.es
SUMMARY:DIA INTERNACIONAL DE LA MUJER
DESCRIPTION:11.00 h. Lectura manifiesto y acto Mujeres Pioneras. Auditorio Manolo Sanlúcar \n18.00 h. Cine Forum. «Los pequeños amores» Auditorio Manolo Sanlúcar.
URL:https://sanlucarpromocion.es/event/dia-internacional-de-la-mujer/
LOCATION:Auditorio Municipal Manolo Sanlúcar\, c/Cuesta de Belén s/n\, Sanlúcar de Barrameda\, Cádiz\, 11540\, España
CATEGORIES:Igualdad
ATTACH;FMTTYPE=image/jpeg:https://sanlucarpromocion.es/wp-content/uploads/2025/03/Cartel-8M-2025.jpeg
END:VEVENT
BEGIN:VEVENT
DTSTART;TZID=Europe/Madrid:20250306T210000
DTEND;TZID=Europe/Madrid:20250306T230000
DTSTAMP:20260424T011758
CREATED:20250109T105949Z
LAST-MODIFIED:20250305T161348Z
UID:7244-1741294800-1741302000@sanlucarpromocion.es
SUMMARY:PREGÓN CARNAVAL SANLÚCAR
DESCRIPTION:
URL:https://sanlucarpromocion.es/event/pregon-carnaval-sanlucar/
LOCATION:Calzada de la Duquesa Isabel\, Calzada de la Duquesa Isabel\, Sanlúcar de Barrameda\, Cádiz\, 11540\, España
CATEGORIES:Fiestas
ATTACH;FMTTYPE=image/jpeg:https://sanlucarpromocion.es/wp-content/uploads/2025/02/WhatsApp-Image-2025-02-07-at-10.36.13.jpeg
END:VEVENT
BEGIN:VEVENT
DTSTART;VALUE=DATE:20250302
DTEND;VALUE=DATE:20250303
DTSTAMP:20260424T011758
CREATED:20250109T112444Z
LAST-MODIFIED:20250109T112444Z
UID:7255-1740873600-1740959999@sanlucarpromocion.es
SUMMARY:PASARELA FLAMENCA 2025
DESCRIPTION:
URL:https://sanlucarpromocion.es/event/pasarela-flamenca-2025-2/
LOCATION:Auditorio Municipal Manolo Sanlúcar\, c/Cuesta de Belén s/n\, Sanlúcar de Barrameda\, Cádiz\, 11540\, España
CATEGORIES:Moda,Solidaridad
ATTACH;FMTTYPE=image/jpeg:https://sanlucarpromocion.es/wp-content/uploads/2025/01/WhatsApp-Image-2025-01-09-at-11.01.202.jpeg
END:VEVENT
BEGIN:VEVENT
DTSTART;TZID=Europe/Madrid:20250301T203000
DTEND;TZID=Europe/Madrid:20250301T220000
DTSTAMP:20260424T011758
CREATED:20250226T094339Z
LAST-MODIFIED:20250226T094344Z
UID:7521-1740861000-1740866400@sanlucarpromocion.es
SUMMARY:ACTO CIRINEO 2025
DESCRIPTION:
URL:https://sanlucarpromocion.es/event/acto-cirineo-2025/
LOCATION:Parroquia Ntra. Sra del Carmen
CATEGORIES:Fiestas
ATTACH;FMTTYPE=image/jpeg:https://sanlucarpromocion.es/wp-content/uploads/2025/02/476298747_642661914799868_5638151612474286548_n.jpg
END:VEVENT
BEGIN:VEVENT
DTSTART;TZID=Europe/Madrid:20250301T123000
DTEND;TZID=Europe/Madrid:20250301T143000
DTSTAMP:20260424T011758
CREATED:20250206T095807Z
LAST-MODIFIED:20250206T095807Z
UID:7398-1740832200-1740839400@sanlucarpromocion.es
SUMMARY:CICLO DE CONFERENCIAS "LA CHARIDAD GUZMANA"
DESCRIPTION:
URL:https://sanlucarpromocion.es/event/ciclo-de-conferencias-la-charidad-guzmana-3/
LOCATION:Museo Parroquial Parroquia de La O.
CATEGORIES:Arte,Cultura
ATTACH;FMTTYPE=image/jpeg:https://sanlucarpromocion.es/wp-content/uploads/2025/02/475981984_542602425493369_4222365314173691958_n.jpg
END:VEVENT
BEGIN:VEVENT
DTSTART;TZID=Europe/Madrid:20250301T120000
DTEND;TZID=Europe/Madrid:20250301T170000
DTSTAMP:20260424T011758
CREATED:20250226T102415Z
LAST-MODIFIED:20250226T102422Z
UID:7532-1740830400-1740848400@sanlucarpromocion.es
SUMMARY:CARNAVAL MARINERO
DESCRIPTION:
URL:https://sanlucarpromocion.es/event/carnaval-marinero/
LOCATION:Plaza Señorita Sudor. Bajo de Guía
CATEGORIES:Fiestas
ATTACH;FMTTYPE=image/jpeg:https://sanlucarpromocion.es/wp-content/uploads/2025/02/WhatsApp-Image-2025-02-26-at-10.31.103.jpeg
END:VEVENT
BEGIN:VEVENT
DTSTART;VALUE=DATE:20250301
DTEND;VALUE=DATE:20250302
DTSTAMP:20260424T011758
CREATED:20250109T112408Z
LAST-MODIFIED:20250109T112408Z
UID:7252-1740787200-1740873599@sanlucarpromocion.es
SUMMARY:PASARELA FLAMENCA 2025
DESCRIPTION:
URL:https://sanlucarpromocion.es/event/pasarela-flamenca-2025/
LOCATION:Auditorio Municipal Manolo Sanlúcar\, c/Cuesta de Belén s/n\, Sanlúcar de Barrameda\, Cádiz\, 11540\, España
CATEGORIES:Moda,Solidaridad
ATTACH;FMTTYPE=image/jpeg:https://sanlucarpromocion.es/wp-content/uploads/2025/01/WhatsApp-Image-2025-01-09-at-11.01.202.jpeg
END:VEVENT
BEGIN:VEVENT
DTSTART;TZID=Europe/Madrid:20250228T200000
DTEND;TZID=Europe/Madrid:20250228T220000
DTSTAMP:20260424T011758
CREATED:20250226T094638Z
LAST-MODIFIED:20250226T101825Z
UID:7524-1740772800-1740780000@sanlucarpromocion.es
SUMMARY:CICLO DE CONFERENCIAS HERMANDAD DEL CAUTIVO
DESCRIPTION:
URL:https://sanlucarpromocion.es/event/ciclo-de-conferencias-hermandad-del-cautivo/
LOCATION:GALERIA DE LA PARRQOUIA DEL CARMEN
CATEGORIES:Fiestas
ATTACH;FMTTYPE=image/jpeg:https://sanlucarpromocion.es/wp-content/uploads/2025/02/480290100_1043224931175798_2438778234876377076_n.jpg
END:VEVENT
END:VCALENDAR